BEGIN:VCALENDAR
PRODID:-//github.com/rianjs/ical.net//NONSGML ical.net 4.0//EN
VERSION:2.0
BEGIN:VEVENT
DESCRIPTION:Kristi Himmelfartsdag
DTEND:20260514T235959
DTSTAMP:20260422T141801Z
DTSTART;VALUE=DATE:20260514
SEQUENCE:0
SUMMARY:Kristi Himmelfartsdag
UID:9e7746fe-2b9c-4012-aa79-81198da23756
END:VEVENT
END:VCALENDAR
