BEGIN:VCALENDAR
PRODID:-//github.com/rianjs/ical.net//NONSGML ical.net 4.0//EN
VERSION:2.0
BEGIN:VEVENT
DESCRIPTION:Førskoledag
DTEND:20260604T123000
DTSTAMP:20260422T141747Z
DTSTART:20260604T090000
SEQUENCE:0
SUMMARY:Førskoledag
UID:32d9bd5a-831a-42c2-bab2-585748acd344
END:VEVENT
END:VCALENDAR
