BEGIN:VCALENDAR
PRODID:-//github.com/rianjs/ical.net//NONSGML ical.net 4.0//EN
VERSION:2.0
BEGIN:VEVENT
DESCRIPTION:SommerFRIO: juni
DTEND:20260630T000000
DTSTAMP:20260422T141429Z
DTSTART:20260622T000000
SEQUENCE:0
SUMMARY:SommerFRIO: juni
UID:fb8b60b1-7f92-4036-b78c-a20c10ace71c
END:VEVENT
END:VCALENDAR
