BEGIN:VCALENDAR
PRODID:-//github.com/rianjs/ical.net//NONSGML ical.net 4.0//EN
VERSION:2.0
BEGIN:VEVENT
DESCRIPTION:SommerFRIO: august
DTEND:20260814T000000
DTSTAMP:20260422T141429Z
DTSTART:20260803T000000
SEQUENCE:0
SUMMARY:SommerFRIO: august
UID:21864040-e7a6-4f47-a319-b738f55c9afe
END:VEVENT
END:VCALENDAR
