BEGIN:VCALENDAR
PRODID:-//github.com/rianjs/ical.net//NONSGML ical.net 4.0//EN
VERSION:2.0
BEGIN:VEVENT
DESCRIPTION:Felles planleggingsdag skole og AKS
DTEND:20260811T000000
DTSTAMP:20260422T141430Z
DTSTART:20260810T000000
SEQUENCE:0
SUMMARY:Felles planleggingsdag skole og AKS
UID:233beae7-091d-4d6c-8aa2-e2f462abfe4a
END:VEVENT
END:VCALENDAR
